BEGIN:VCALENDAR
VERSION:2.0
PRODID:-//CIRNA - ECPv6.15.17.1//NONSGML v1.0//EN
CALSCALE:GREGORIAN
METHOD:PUBLISH
X-WR-CALNAME:CIRNA
X-ORIGINAL-URL:https://cirna.org
X-WR-CALDESC:Events for CIRNA
REFRESH-INTERVAL;VALUE=DURATION:PT1H
X-Robots-Tag:noindex
X-PUBLISHED-TTL:PT1H
BEGIN:VTIMEZONE
TZID:America/Los_Angeles
BEGIN:DAYLIGHT
TZOFFSETFROM:-0800
TZOFFSETTO:-0700
TZNAME:PDT
DTSTART:20220313T100000
END:DAYLIGHT
BEGIN:STANDARD
TZOFFSETFROM:-0700
TZOFFSETTO:-0800
TZNAME:PST
DTSTART:20221106T090000
END:STANDARD
BEGIN:DAYLIGHT
TZOFFSETFROM:-0800
TZOFFSETTO:-0700
TZNAME:PDT
DTSTART:20230312T100000
END:DAYLIGHT
BEGIN:STANDARD
TZOFFSETFROM:-0700
TZOFFSETTO:-0800
TZNAME:PST
DTSTART:20231105T090000
END:STANDARD
BEGIN:DAYLIGHT
TZOFFSETFROM:-0800
TZOFFSETTO:-0700
TZNAME:PDT
DTSTART:20240310T100000
END:DAYLIGHT
BEGIN:STANDARD
TZOFFSETFROM:-0700
TZOFFSETTO:-0800
TZNAME:PST
DTSTART:20241103T090000
END:STANDARD
END:VTIMEZONE
BEGIN:VEVENT
DTSTART;TZID=America/Los_Angeles:20230218T110000
DTEND;TZID=America/Los_Angeles:20230218T160000
DTSTAMP:20260422T172618
CREATED:20221107T174254Z
LAST-MODIFIED:20221213T064909Z
UID:3109-1676718000-1676736000@cirna.org
SUMMARY:CIRNA Regional Assembly to Review the CAR
DESCRIPTION:Regional Service Learning Funday andRegional Assembly to Review the  CAR \n\n\n\nClick to Learn more about the CAR (Conference Agenda Report) \n\n\n\nOPEN TO EVERYONE!All GSRs should attend. \n\n\n\n\n\n\n\n\n\n\n\nYucaipa Community Center Banquet Room \n\n\n\nPotluckFree Carne Asada\, Pollo Asada\, and Drinks \n\n\n\nPlease bring your favorite dish.
URL:https://cirna.org/event/cirna-regional-assembly-to-review-the-car/
LOCATION:Yucaipa Community Center\, 34900 Oak Glen Road\, Yucaipa\, California\, 92399\, United States
ATTACH;FMTTYPE=image/png:https://cirna.org/wp-content/uploads/2022/12/CAR-Assembly.png
END:VEVENT
END:VCALENDAR