BEGIN:VCALENDAR
VERSION:2.0
PRODID:-//CIRNA - ECPv6.15.17.1//NONSGML v1.0//EN
CALSCALE:GREGORIAN
METHOD:PUBLISH
X-WR-CALNAME:CIRNA
X-ORIGINAL-URL:https://cirna.org
X-WR-CALDESC:Events for CIRNA
REFRESH-INTERVAL;VALUE=DURATION:PT1H
X-Robots-Tag:noindex
X-PUBLISHED-TTL:PT1H
BEGIN:VTIMEZONE
TZID:America/Los_Angeles
BEGIN:DAYLIGHT
TZOFFSETFROM:-0800
TZOFFSETTO:-0700
TZNAME:PDT
DTSTART:20170312T100000
END:DAYLIGHT
BEGIN:STANDARD
TZOFFSETFROM:-0700
TZOFFSETTO:-0800
TZNAME:PST
DTSTART:20171105T090000
END:STANDARD
BEGIN:DAYLIGHT
TZOFFSETFROM:-0800
TZOFFSETTO:-0700
TZNAME:PDT
DTSTART:20180311T100000
END:DAYLIGHT
BEGIN:STANDARD
TZOFFSETFROM:-0700
TZOFFSETTO:-0800
TZNAME:PST
DTSTART:20181104T090000
END:STANDARD
BEGIN:DAYLIGHT
TZOFFSETFROM:-0800
TZOFFSETTO:-0700
TZNAME:PDT
DTSTART:20190310T100000
END:DAYLIGHT
BEGIN:STANDARD
TZOFFSETFROM:-0700
TZOFFSETTO:-0800
TZNAME:PST
DTSTART:20191103T090000
END:STANDARD
END:VTIMEZONE
BEGIN:VEVENT
DTSTART;TZID=America/Los_Angeles:20181224T180000
DTEND;TZID=America/Los_Angeles:20181225T060000
DTSTAMP:20260423T025044
CREATED:20181219T210042Z
LAST-MODIFIED:20181220T191128Z
UID:123-1545674400-1545717600@cirna.org
SUMMARY:LDA - Holiday Marathon Meetings
DESCRIPTION:Come Join Us and enjoy Fellowship – Unity and stay for coffee and refreshments provided during the meetings. \n\n\n\nIf you are interested in leading Meeting Please contact Sherrie M. (760)-702-8731. \n\n\n\nLower Desert Area Activities \n\n\n\n\n[DISPLAY_PREMIUM_RECTANGLE_ICONS]
URL:https://cirna.org/event/lda-holiday-marathon-meetings/
LOCATION:Daryll’s House\, 44320 Palm St.\, Indio\, CA\, 92201\, United States
CATEGORIES:Lower Desert Area
END:VEVENT
BEGIN:VEVENT
DTSTART;TZID=America/Los_Angeles:20181224T170000
DTEND;TZID=America/Los_Angeles:20181224T233000
DTSTAMP:20260423T025044
CREATED:20181219T212458Z
LAST-MODIFIED:20181220T190516Z
UID:132-1545670800-1545694200@cirna.org
SUMMARY:GMA - Holiday Marathon Meetings
DESCRIPTION:Come Join us for some fellowship! \n\n\n\nContact: Ron A. 760-217-2863 \n\n\n\nGreater Mojave Area H&I \n\n\n\n\n\n\n\n\n\n\n[DISPLAY_PREMIUM_RECTANGLE_ICONS]
URL:https://cirna.org/event/gma-holiday-marathon-meetings/
LOCATION:Saint John of God Church\, 15534 6th St\, Victorville\, California\, 92395\, United States
CATEGORIES:Greater Mojave Area
END:VEVENT
END:VCALENDAR