BEGIN:VCALENDAR
VERSION:2.0
PRODID:-//CIRNA - ECPv6.15.17.1//NONSGML v1.0//EN
CALSCALE:GREGORIAN
METHOD:PUBLISH
X-ORIGINAL-URL:https://cirna.org
X-WR-CALDESC:Events for CIRNA
REFRESH-INTERVAL;VALUE=DURATION:PT1H
X-Robots-Tag:noindex
X-PUBLISHED-TTL:PT1H
BEGIN:VTIMEZONE
TZID:America/Los_Angeles
BEGIN:DAYLIGHT
TZOFFSETFROM:-0800
TZOFFSETTO:-0700
TZNAME:PDT
DTSTART:20210314T100000
END:DAYLIGHT
BEGIN:STANDARD
TZOFFSETFROM:-0700
TZOFFSETTO:-0800
TZNAME:PST
DTSTART:20211107T090000
END:STANDARD
BEGIN:DAYLIGHT
TZOFFSETFROM:-0800
TZOFFSETTO:-0700
TZNAME:PDT
DTSTART:20220313T100000
END:DAYLIGHT
BEGIN:STANDARD
TZOFFSETFROM:-0700
TZOFFSETTO:-0800
TZNAME:PST
DTSTART:20221106T090000
END:STANDARD
BEGIN:DAYLIGHT
TZOFFSETFROM:-0800
TZOFFSETTO:-0700
TZNAME:PDT
DTSTART:20230312T100000
END:DAYLIGHT
BEGIN:STANDARD
TZOFFSETFROM:-0700
TZOFFSETTO:-0800
TZNAME:PST
DTSTART:20231105T090000
END:STANDARD
BEGIN:DAYLIGHT
TZOFFSETFROM:-0800
TZOFFSETTO:-0700
TZNAME:PDT
DTSTART:20240310T100000
END:DAYLIGHT
BEGIN:STANDARD
TZOFFSETFROM:-0700
TZOFFSETTO:-0800
TZNAME:PST
DTSTART:20241103T090000
END:STANDARD
BEGIN:DAYLIGHT
TZOFFSETFROM:-0800
TZOFFSETTO:-0700
TZNAME:PDT
DTSTART:20250309T100000
END:DAYLIGHT
BEGIN:STANDARD
TZOFFSETFROM:-0700
TZOFFSETTO:-0800
TZNAME:PST
DTSTART:20251102T090000
END:STANDARD
BEGIN:DAYLIGHT
TZOFFSETFROM:-0800
TZOFFSETTO:-0700
TZNAME:PDT
DTSTART:20260308T100000
END:DAYLIGHT
BEGIN:STANDARD
TZOFFSETFROM:-0700
TZOFFSETTO:-0800
TZNAME:PST
DTSTART:20261101T090000
END:STANDARD
BEGIN:DAYLIGHT
TZOFFSETFROM:-0800
TZOFFSETTO:-0700
TZNAME:PDT
DTSTART:20270314T100000
END:DAYLIGHT
BEGIN:STANDARD
TZOFFSETFROM:-0700
TZOFFSETTO:-0800
TZNAME:PST
DTSTART:20271107T090000
END:STANDARD
END:VTIMEZONE
BEGIN:VEVENT
DTSTART;TZID=America/Los_Angeles:20221214T183000
DTEND;TZID=America/Los_Angeles:20221214T210000
DTSTAMP:20260423T005357
CREATED:20221107T181148Z
LAST-MODIFIED:20221107T181549Z
UID:3129-1671042600-1671051600@cirna.org
SUMMARY:Initial Review of Conference Agenda Report (CAR)
DESCRIPTION:Join us on the Zoom platform to do an initial read-through of the motions in the 2023 CAR. This is an opportunity to discuss the motions\, formulate questions for the World Board\, explore pros and cons of the motions\, and help the CIRNA RD Team to frame how these motions will be presented at the regional assembly. \n\n\n\nClick to Learn more about the CAR \n\n\n\nClick to Join the Zoom Meeting \n\n\n\nZoom ID: 841 1808 2385Password: 1953
URL:https://cirna.org/event/initial-review-of-conference-agenda-report-car/
END:VEVENT
BEGIN:VEVENT
DTSTART;TZID=America/Los_Angeles:20230218T110000
DTEND;TZID=America/Los_Angeles:20230218T160000
DTSTAMP:20260423T005357
CREATED:20221107T174254Z
LAST-MODIFIED:20221213T064909Z
UID:3109-1676718000-1676736000@cirna.org
SUMMARY:CIRNA Regional Assembly to Review the CAR
DESCRIPTION:Regional Service Learning Funday andRegional Assembly to Review the  CAR \n\n\n\nClick to Learn more about the CAR (Conference Agenda Report) \n\n\n\nOPEN TO EVERYONE!All GSRs should attend. \n\n\n\n\n\n\n\n\n\n\n\nYucaipa Community Center Banquet Room \n\n\n\nPotluckFree Carne Asada\, Pollo Asada\, and Drinks \n\n\n\nPlease bring your favorite dish.
URL:https://cirna.org/event/cirna-regional-assembly-to-review-the-car/
LOCATION:Yucaipa Community Center\, 34900 Oak Glen Road\, Yucaipa\, California\, 92399\, United States
ATTACH;FMTTYPE=image/png:https://cirna.org/wp-content/uploads/2022/12/CAR-Assembly.png
END:VEVENT
BEGIN:VEVENT
DTSTART;TZID=America/Los_Angeles:20240303T120000
DTEND;TZID=America/Los_Angeles:20240303T153000
DTSTAMP:20260423T005357
CREATED:20240206T233318Z
LAST-MODIFIED:20240206T233346Z
UID:3401-1709467200-1709479800@cirna.org
SUMMARY:Southwest Area hosts CIRNA RSC
DESCRIPTION:California Inland Region of NAREGIONAL SUNDAYHosted by Southwest Area \n\n\n\nMarch 3\, 2024Noon – Lunch / 1:00pm CIRNA RSC Meeting \n\n\n\n@ Solution Based Treatment25819 Jefferson Ave #110\, Murrieta\, CAFOR GOOGLE/GPS USE:  25819 Adams Ave #110\, Murrieta\, CA
URL:https://cirna.org/event/southwest-area-hosts-cirna-rsc/
CATEGORIES:Region
ATTACH;FMTTYPE=image/png:https://cirna.org/wp-content/uploads/2024/02/CIRNA_regional_flyer_3-3-24.png
END:VEVENT
BEGIN:VEVENT
DTSTART;TZID=America/Los_Angeles:20240420T110000
DTEND;TZID=America/Los_Angeles:20240420T170000
DTSTAMP:20260423T005357
CREATED:20240206T222407Z
LAST-MODIFIED:20240206T222809Z
UID:3393-1713610800-1713632400@cirna.org
SUMMARY:Regional Speaker Jam
DESCRIPTION:CIRNA Regional Speaker Jam \n\n\n\nApril 20th\, 2024 – 11:00am to 5:00pm \n\n\n\nRuth Hardy Park\, 700 Tamarisk Rd.\, Palm Springs \n\n\n\nSpeakers: 15+ years\, names to be drawn \n\n\n\nFood Noon-2:30pm \n\n\n\nHamburgers\, Hot Dogs & Water Provided. \n\n\n\nBring a Side or Dessert \n\n\n\nPlease bring chairs! \n\n\n\nAll areas are asked to participate! \n\n\n\nContact: Kathy P. (760) 883-8493
URL:https://cirna.org/event/regional-speaker-jam/
ATTACH;FMTTYPE=image/jpeg:https://cirna.org/wp-content/uploads/2024/02/Speaker_Jam_4-20-24-scaled.jpg
END:VEVENT
BEGIN:VEVENT
DTSTART;TZID=America/Los_Angeles:20240614T000000
DTEND;TZID=America/Los_Angeles:20240616T235959
DTSTAMP:20260423T005357
CREATED:20240204T194942Z
LAST-MODIFIED:20240204T195636Z
UID:3360-1718323200-1718582399@cirna.org
SUMMARY:CIRCNA 25: Alive & Free
DESCRIPTION:Join the California Inland Region in the celebration at our 25th annual Regional Convention.
URL:https://cirna.org/event/circna-25-alive-free/
LOCATION:JW Marriott Desert Springs Resort & Spa\, 74-855 Country Club Drive\, Palm Desert\, California\, 92260\, United States
ATTACH;FMTTYPE=image/png:https://cirna.org/wp-content/uploads/2022/01/circna-25-logo-web.png
END:VEVENT
BEGIN:VEVENT
DTSTART;TZID=America/Los_Angeles:20260411T110000
DTEND;TZID=America/Los_Angeles:20260411T150000
DTSTAMP:20260423T005357
CREATED:20260311T184218Z
LAST-MODIFIED:20260311T214900Z
UID:3555-1775905200-1775919600@cirna.org
SUMMARY:Lower Desert Unity Day
DESCRIPTION:
URL:https://cirna.org/event/lower-desert-unity-day/
LOCATION:Palm Desert Civic Center Park\, Fred Waring and San Pablo Avenue\, Palm Desert\, Ca\, 92260\, United States
ATTACH;FMTTYPE=image/avif:https://cirna.org/wp-content/uploads/2026/03/Unity-Day-flyer-1.avif
END:VEVENT
BEGIN:VEVENT
DTSTART;TZID=America/Los_Angeles:20260627T090000
DTEND;TZID=America/Los_Angeles:20260627T170000
DTSTAMP:20260423T005357
CREATED:20260311T222540Z
LAST-MODIFIED:20260311T222541Z
UID:3566-1782550800-1782579600@cirna.org
SUMMARY:Lower Desert Area NA Beach Trip
DESCRIPTION:South side of pier. Between lifeguard towers 5 & 7. $20.00 Paring in beach lot.
URL:https://cirna.org/event/lower-desert-area-na-beach-trip/
ATTACH;FMTTYPE=image/jpeg:https://cirna.org/wp-content/uploads/2026/03/2546.jpg
END:VEVENT
BEGIN:VEVENT
DTSTART;TZID=America/Los_Angeles:20260724T120000
DTEND;TZID=America/Los_Angeles:20260726T120000
DTSTAMP:20260423T005357
CREATED:20260308T215543Z
LAST-MODIFIED:20260308T215650Z
UID:3538-1784894400-1785067200@cirna.org
SUMMARY:CIRCNA 27: We Came to Believe
DESCRIPTION:California Inland Regional Convention 27
URL:https://cirna.org/event/circna-27-we-came-to-believe/
LOCATION:JW Marriott Desert Springs Resort & Spa\, 74-855 Country Club Drive\, Palm Desert\, California\, 92260\, United States
CATEGORIES:Convention
ATTACH;FMTTYPE=image/png:https://cirna.org/wp-content/uploads/2026/01/cirna_2026_logo_v9_1x.png
END:VEVENT
END:VCALENDAR