BEGIN:VCALENDAR
VERSION:2.0
PRODID:-//CIRNA - ECPv6.15.17.1//NONSGML v1.0//EN
CALSCALE:GREGORIAN
METHOD:PUBLISH
X-WR-CALNAME:CIRNA
X-ORIGINAL-URL:https://cirna.org
X-WR-CALDESC:Events for CIRNA
REFRESH-INTERVAL;VALUE=DURATION:PT1H
X-Robots-Tag:noindex
X-PUBLISHED-TTL:PT1H
BEGIN:VTIMEZONE
TZID:America/Los_Angeles
BEGIN:DAYLIGHT
TZOFFSETFROM:-0800
TZOFFSETTO:-0700
TZNAME:PDT
DTSTART:20180311T100000
END:DAYLIGHT
BEGIN:STANDARD
TZOFFSETFROM:-0700
TZOFFSETTO:-0800
TZNAME:PST
DTSTART:20181104T090000
END:STANDARD
BEGIN:DAYLIGHT
TZOFFSETFROM:-0800
TZOFFSETTO:-0700
TZNAME:PDT
DTSTART:20190310T100000
END:DAYLIGHT
BEGIN:STANDARD
TZOFFSETFROM:-0700
TZOFFSETTO:-0800
TZNAME:PST
DTSTART:20191103T090000
END:STANDARD
BEGIN:DAYLIGHT
TZOFFSETFROM:-0800
TZOFFSETTO:-0700
TZNAME:PDT
DTSTART:20200308T100000
END:DAYLIGHT
BEGIN:STANDARD
TZOFFSETFROM:-0700
TZOFFSETTO:-0800
TZNAME:PST
DTSTART:20201101T090000
END:STANDARD
BEGIN:DAYLIGHT
TZOFFSETFROM:-0800
TZOFFSETTO:-0700
TZNAME:PDT
DTSTART:20210314T100000
END:DAYLIGHT
BEGIN:STANDARD
TZOFFSETFROM:-0700
TZOFFSETTO:-0800
TZNAME:PST
DTSTART:20211107T090000
END:STANDARD
BEGIN:DAYLIGHT
TZOFFSETFROM:-0800
TZOFFSETTO:-0700
TZNAME:PDT
DTSTART:20220313T100000
END:DAYLIGHT
BEGIN:STANDARD
TZOFFSETFROM:-0700
TZOFFSETTO:-0800
TZNAME:PST
DTSTART:20221106T090000
END:STANDARD
BEGIN:DAYLIGHT
TZOFFSETFROM:-0800
TZOFFSETTO:-0700
TZNAME:PDT
DTSTART:20230312T100000
END:DAYLIGHT
BEGIN:STANDARD
TZOFFSETFROM:-0700
TZOFFSETTO:-0800
TZNAME:PST
DTSTART:20231105T090000
END:STANDARD
END:VTIMEZONE
BEGIN:VTIMEZONE
TZID:America/Los_Angeles
BEGIN:DAYLIGHT
TZOFFSETFROM:-0800
TZOFFSETTO:-0700
TZNAME:PDT
DTSTART:20190310T100000
END:DAYLIGHT
BEGIN:STANDARD
TZOFFSETFROM:-0700
TZOFFSETTO:-0800
TZNAME:PST
DTSTART:20191103T090000
END:STANDARD
BEGIN:DAYLIGHT
TZOFFSETFROM:-0800
TZOFFSETTO:-0700
TZNAME:PDT
DTSTART:20200308T100000
END:DAYLIGHT
BEGIN:STANDARD
TZOFFSETFROM:-0700
TZOFFSETTO:-0800
TZNAME:PST
DTSTART:20201101T090000
END:STANDARD
BEGIN:DAYLIGHT
TZOFFSETFROM:-0800
TZOFFSETTO:-0700
TZNAME:PDT
DTSTART:20210314T100000
END:DAYLIGHT
BEGIN:STANDARD
TZOFFSETFROM:-0700
TZOFFSETTO:-0800
TZNAME:PST
DTSTART:20211107T090000
END:STANDARD
BEGIN:DAYLIGHT
TZOFFSETFROM:-0800
TZOFFSETTO:-0700
TZNAME:PDT
DTSTART:20220313T100000
END:DAYLIGHT
BEGIN:STANDARD
TZOFFSETFROM:-0700
TZOFFSETTO:-0800
TZNAME:PST
DTSTART:20221106T090000
END:STANDARD
END:VTIMEZONE
BEGIN:VEVENT
DTSTART;TZID=America/Los_Angeles:20220625T170000
DTEND;TZID=America/Los_Angeles:20220625T210000
DTSTAMP:20260423T020907
CREATED:20220616T211253Z
LAST-MODIFIED:20220616T211523Z
UID:3088-1656176400-1656190800@cirna.org
SUMMARY:BINGO BLOWOUT
DESCRIPTION:Morongo Basin Bingo Blowout
URL:https://cirna.org/event/bingo-blowout/
LOCATION:First Christian Church of Yucca Valley\, 56284 Buena Vista Dr.\, Yucca valley\, Ca\, 92284\, United States
CATEGORIES:Morongo Basin Area
END:VEVENT
BEGIN:VEVENT
DTSTART;TZID=America/Los_Angeles:20220617T120000
DTEND;TZID=America/Los_Angeles:20220619T120000
DTSTAMP:20260423T020907
CREATED:20220315T035437Z
LAST-MODIFIED:20220404T204002Z
UID:3062-1655467200-1655640000@cirna.org
SUMMARY:LDA Campout
DESCRIPTION:Hurkey Creek Campground \n\n\n\n\n\n\n\n\n\nSherrie M \n\n\n\n760-702-8731
URL:https://cirna.org/event/lda-campout/
CATEGORIES:Lower Desert Area
END:VEVENT
BEGIN:VEVENT
DTSTART;TZID=America/Los_Angeles:20220306T120000
DTEND;TZID=America/Los_Angeles:20220306T140000
DTSTAMP:20260423T020907
CREATED:20220208T022832Z
LAST-MODIFIED:20220208T022833Z
UID:3049-1646568000-1646575200@cirna.org
SUMMARY:CIRNA MEET & GREET
DESCRIPTION:Come and share a meal with your service representatives.
URL:https://cirna.org/event/cirna-meet-greet/
LOCATION:25819 Jefferson Suite 120\, Murrieta\, 25819 Jefferson Suite 120\, Murrieta\, California\, 92562\, United States
END:VEVENT
BEGIN:VEVENT
DTSTART;TZID=America/Los_Angeles:20220129T100000
DTEND;TZID=America/Los_Angeles:20220129T100000
DTSTAMP:20260423T020907
CREATED:20220103T003207Z
LAST-MODIFIED:20220103T003208Z
UID:3032-1643450400-1643450400@cirna.org
SUMMARY:
DESCRIPTION:Doors open at 9am \n\n\n\n\n\n\n\n\n\n\n\n\n\n\n\nShane 760-406-3322 or Shylo 760-676-7676
URL:https://cirna.org/event/3032/
END:VEVENT
BEGIN:VEVENT
DTSTART;TZID=America/Los_Angeles:20210827T080000
DTEND;TZID=America/Los_Angeles:20210829T170000
DTSTAMP:20260423T020907
CREATED:20210716T180947Z
LAST-MODIFIED:20210716T180949Z
UID:2880-1630051200-1630256400@cirna.org
SUMMARY:Mountain Area Camp-out
DESCRIPTION:Beat the heat\, Mile High Camp-out
URL:https://cirna.org/event/mountain-area-camp-out/
END:VEVENT
BEGIN:VEVENT
DTSTART;TZID=America/Los_Angeles:20210821T090000
DTEND;TZID=America/Los_Angeles:20210821T170000
DTSTAMP:20260423T020907
CREATED:20210614T222727Z
LAST-MODIFIED:20210614T222728Z
UID:2807-1629536400-1629565200@cirna.org
SUMMARY:LDA -- NA BEACH TRIP
DESCRIPTION:
URL:https://cirna.org/event/lda-na-beach-trip/
CATEGORIES:Lower Desert Area
END:VEVENT
BEGIN:VEVENT
DTSTART;TZID=America/Los_Angeles:20201121T080000
DTEND;TZID=America/Los_Angeles:20201121T170000
DTSTAMP:20260423T020907
CREATED:20200121T235115Z
LAST-MODIFIED:20200121T235116Z
UID:1590-1605945600-1605978000@cirna.org
SUMMARY:SWA -- Day of Gratitude (Details TBD)
DESCRIPTION:
URL:https://cirna.org/event/swa-day-of-gratitude-details-tbd/
CATEGORIES:Southwest Area
END:VEVENT
BEGIN:VEVENT
DTSTART;TZID=America/Los_Angeles:20201024T080000
DTEND;TZID=America/Los_Angeles:20201024T170000
DTSTAMP:20260423T020907
CREATED:20200121T235011Z
LAST-MODIFIED:20200712T213145Z
UID:1587-1603526400-1603558800@cirna.org
SUMMARY:LDA -- Halloween Dance (Cancelled)
DESCRIPTION:
URL:https://cirna.org/event/lda-halloween-dance-details-tbd/
CATEGORIES:Lower Desert Area
END:VEVENT
BEGIN:VEVENT
DTSTART;TZID=America/Los_Angeles:20201016T080000
DTEND;TZID=America/Los_Angeles:20201018T120000
DTSTAMP:20260423T020907
CREATED:20200906T213309Z
LAST-MODIFIED:20200906T213310Z
UID:2517-1602835200-1603022400@cirna.org
SUMMARY:Escape from Insanity Campout
DESCRIPTION:
URL:https://cirna.org/event/escape-from-insanity-campout/
LOCATION:Lake Hemet Campground\, 56570 HWY 74\, MOUNTAIN CENTER\, California\, 92561\, United States
CATEGORIES:Southwest Area
END:VEVENT
BEGIN:VEVENT
DTSTART;TZID=America/Los_Angeles:20201003T093000
DTEND;TZID=America/Los_Angeles:20201003T170000
DTSTAMP:20260423T020907
CREATED:20200812T162510Z
LAST-MODIFIED:20200812T180238Z
UID:2467-1601717400-1601744400@cirna.org
SUMMARY:First Annual CIRNA Desert to the Beach Run
DESCRIPTION:
URL:https://cirna.org/event/first-annual-cirna-desert-to-the-beach-run/
LOCATION:Palm Springs Harley-Davidson\, 19465 N. Indian Canyon Dr.\, Palm Springs\, California\, 92258\, United States
END:VEVENT
BEGIN:VEVENT
DTSTART;TZID=America/Los_Angeles:20201002T080000
DTEND;TZID=America/Los_Angeles:20201004T170000
DTSTAMP:20260423T020907
CREATED:20200121T234931Z
LAST-MODIFIED:20200121T234932Z
UID:1585-1601625600-1601830800@cirna.org
SUMMARY:SWA -- Campout (Details TBD)
DESCRIPTION:
URL:https://cirna.org/event/swa-campout-details-tbd/
CATEGORIES:Southwest Area
END:VEVENT
BEGIN:VEVENT
DTSTART;TZID=America/Los_Angeles:20200829T080000
DTEND;TZID=America/Los_Angeles:20200829T170000
DTSTAMP:20260423T020907
CREATED:20200121T234844Z
LAST-MODIFIED:20200121T234845Z
UID:1583-1598688000-1598720400@cirna.org
SUMMARY:MBA -- Unity Day Picnic (Details TBD)
DESCRIPTION:
URL:https://cirna.org/event/mba-unity-day-picnic-details-tbd/
CATEGORIES:Morongo Basin Area
END:VEVENT
BEGIN:VEVENT
DTSTART;TZID=America/Los_Angeles:20200815T080000
DTEND;TZID=America/Los_Angeles:20200815T170000
DTSTAMP:20260423T020907
CREATED:20200121T234745Z
LAST-MODIFIED:20200712T213159Z
UID:1581-1597478400-1597510800@cirna.org
SUMMARY:LDA -- River Float (Cancelled)
DESCRIPTION:
URL:https://cirna.org/event/lda-river-float-details-tbd/
CATEGORIES:Lower Desert Area
END:VEVENT
BEGIN:VEVENT
DTSTART;TZID=America/Los_Angeles:20200808T080000
DTEND;TZID=America/Los_Angeles:20200808T170000
DTSTAMP:20260423T020907
CREATED:20200121T234714Z
LAST-MODIFIED:20200121T234715Z
UID:1579-1596873600-1596906000@cirna.org
SUMMARY:SWA -- Roller Skate (Details TBD)
DESCRIPTION:
URL:https://cirna.org/event/swa-roller-skate-details-tbd/
CATEGORIES:Southwest Area
END:VEVENT
BEGIN:VEVENT
DTSTART;TZID=America/Los_Angeles:20200725T080000
DTEND;TZID=America/Los_Angeles:20200725T170000
DTSTAMP:20260423T020907
CREATED:20200121T234631Z
LAST-MODIFIED:20200712T213211Z
UID:1577-1595664000-1595696400@cirna.org
SUMMARY:LDA -- Beach Trip (Cancelled)
DESCRIPTION:
URL:https://cirna.org/event/lda-beach-trip-details-tbd/
CATEGORIES:Lower Desert Area
END:VEVENT
BEGIN:VEVENT
DTSTART;TZID=America/Los_Angeles:20200704T080000
DTEND;TZID=America/Los_Angeles:20200704T170000
DTSTAMP:20260423T020907
CREATED:20200121T234532Z
LAST-MODIFIED:20200121T234533Z
UID:1574-1593849600-1593882000@cirna.org
SUMMARY:SWA -- Get Together (Details TBD)
DESCRIPTION:
URL:https://cirna.org/event/swa-get-together-details-tbd/
CATEGORIES:Southwest Area
END:VEVENT
BEGIN:VEVENT
DTSTART;TZID=America/Los_Angeles:20200605T080000
DTEND;TZID=America/Los_Angeles:20200607T170000
DTSTAMP:20260423T020907
CREATED:20200121T234454Z
LAST-MODIFIED:20200507T193908Z
UID:1572-1591344000-1591549200@cirna.org
SUMMARY:LDA -- Campout (Canceled)
DESCRIPTION:
URL:https://cirna.org/event/lda-campout-details-tbd/
CATEGORIES:Lower Desert Area
END:VEVENT
BEGIN:VEVENT
DTSTART;TZID=America/Los_Angeles:20200530T080000
DTEND;TZID=America/Los_Angeles:20200530T170000
DTSTAMP:20260423T020907
CREATED:20200121T234405Z
LAST-MODIFIED:20200121T234553Z
UID:1570-1590825600-1590858000@cirna.org
SUMMARY:SWA -- Unity Day Picnic (Details TBD)
DESCRIPTION:
URL:https://cirna.org/event/swa-unity-day-picnic/
CATEGORIES:Southwest Area
END:VEVENT
BEGIN:VEVENT
DTSTART;TZID=America/Los_Angeles:20200516T090000
DTEND;TZID=America/Los_Angeles:20200516T170000
DTSTAMP:20260423T020907
CREATED:20200121T234322Z
LAST-MODIFIED:20200505T194511Z
UID:1568-1589619600-1589648400@cirna.org
SUMMARY:CIRNA -- Unity Day Picnic (POSTPONED)
DESCRIPTION:Due to a restriction on large gatherings. The CIRNA Unity Day Picnic has been postponed.
URL:https://cirna.org/event/cirna-unity-day-picnic-2020/
LOCATION:Yucaipa Regional Park\, 33900 Oak Glen Rd.\, Yucaipa\, California\, 92399\, United States
CATEGORIES:Region
END:VEVENT
BEGIN:VEVENT
DTSTART;TZID=America/Los_Angeles:20200426T080000
DTEND;TZID=America/Los_Angeles:20200426T170000
DTSTAMP:20260423T020907
CREATED:20200121T234231Z
LAST-MODIFIED:20200405T212830Z
UID:1565-1587888000-1587920400@cirna.org
SUMMARY:SWA -- POSTPONED Sponsor Sponsee Brunch (Details TBD)
DESCRIPTION:Many meetings and activities are currently unable to meet in person under current restrictions\, but there are online and phone-in meetings available. Check the link below. \n\n\n\nOnline Meetings: \n\n\n\nwww.cirna.org/online \n\n\n\nIf you are sick or feel like you might be coming down with something\, do not attend a meeting for the protection of the group. Call the area helpline or use Online Meetings to connect with other recovering addicts.
URL:https://cirna.org/event/swa-sponsor-sponsee-brunch-details-tbd/
CATEGORIES:Southwest Area
END:VEVENT
BEGIN:VEVENT
DTSTART;TZID=America/Los_Angeles:20200411T160000
DTEND;TZID=America/Los_Angeles:20200411T210000
DTSTAMP:20260423T020907
CREATED:20200121T234119Z
LAST-MODIFIED:20200405T212754Z
UID:1562-1586620800-1586638800@cirna.org
SUMMARY:MBA -- CANCELLED Bingo Blowout
DESCRIPTION:Many meetings and activities are currently unable to meet in person under current restrictions\, but there are online and phone-in meetings available. Check the link below. \n\n\n\nOnline Meetings: \n\n\n\nwww.cirna.org/online \n\n\n\nIf you are sick or feel like you might be coming down with something\, do not attend a meeting for the protection of the group. Call the area helpline or use Online Meetings to connect with other recovering addicts.
URL:https://cirna.org/event/mba-bingo-2020/
LOCATION:First Christian Church of Yucca Valley\, 56284 Buena Vista Dr.\, Yucca valley\, Ca\, 92284\, United States
CATEGORIES:Morongo Basin Area
END:VEVENT
BEGIN:VEVENT
DTSTART;TZID=America/Los_Angeles:20200411T120000
DTEND;TZID=America/Los_Angeles:20200411T140000
DTSTAMP:20260423T020907
CREATED:20200112T200253Z
LAST-MODIFIED:20200326T223743Z
UID:1533-1586606400-1586613600@cirna.org
SUMMARY:MBA -- CANCELLED PI/PL Training
DESCRIPTION:
URL:https://cirna.org/event/mba-booth-sitting-training-day-pi-pl/
LOCATION:Yucca Valley Trailer Park\, 55580 Twentynine Palms Highway\, Yucca Valley\, California\, 92284\, United States
CATEGORIES:Morongo Basin Area
END:VEVENT
BEGIN:VEVENT
DTSTART;TZID=America/Los_Angeles:20200330T180000
DTEND;TZID=America/Los_Angeles:20200330T200000
DTSTAMP:20260423T020907
CREATED:20200112T195714Z
LAST-MODIFIED:20200112T200355Z
UID:1527-1585591200-1585598400@cirna.org
SUMMARY:MBA -- Monday Beginner's Topic Potluck\, Speaker Meeting
DESCRIPTION:
URL:https://cirna.org/event/monday-beginners-topic-potluck-speaker-meeting/
LOCATION:6414 Hallee Rd. Suite E\, Joshua Tree\, CA\, 6414 Hallee Rd. Suite E\, Joshua Tree\, California\, United States
CATEGORIES:Morongo Basin Area
END:VEVENT
BEGIN:VEVENT
DTSTART;TZID=America/Los_Angeles:20200328T090000
DTEND;TZID=America/Los_Angeles:20200328T170000
DTSTAMP:20260423T020907
CREATED:20200121T234017Z
LAST-MODIFIED:20200316T172103Z
UID:1560-1585386000-1585414800@cirna.org
SUMMARY:LDA -- Unity Day Picnic (POSTPONED)
DESCRIPTION:This event has been cancelled by the venue due to public health concerns.
URL:https://cirna.org/event/lda-unity-day-picnic-details-tbd/
LOCATION:Palm Desert Civic Center Park\, Fred Waring and San Pablo Avenue\, Palm Desert\, Ca\, 92260\, United States
CATEGORIES:Lower Desert Area
END:VEVENT
BEGIN:VEVENT
DTSTART;TZID=America/Los_Angeles:20200314T193000
DTEND;TZID=America/Los_Angeles:20200314T233000
DTSTAMP:20260423T020907
CREATED:20200121T233926Z
LAST-MODIFIED:20200302T020422Z
UID:1558-1584214200-1584228600@cirna.org
SUMMARY:SWA -- Comedy Show
DESCRIPTION:
URL:https://cirna.org/event/swa-comedy-show-2020/
LOCATION:Murrieta Community Center\, 4180 Juniper St.\, Murrieta\, California\, 92562\, United States
CATEGORIES:Southwest Area
END:VEVENT
BEGIN:VEVENT
DTSTART;TZID=America/Los_Angeles:20200229T173000
DTEND;TZID=America/Los_Angeles:20200229T230000
DTSTAMP:20260423T020907
CREATED:20200203T033315Z
LAST-MODIFIED:20200203T033316Z
UID:1629-1582997400-1583017200@cirna.org
SUMMARY:GMA -- Decade Dance
DESCRIPTION:
URL:https://cirna.org/event/gma-decade-dance/
LOCATION:Victor Valley Alano Club\, 11085 Central Rd\, Apple Valley\, California\, 92308\, United States
CATEGORIES:Greater Mojave Area
END:VEVENT
BEGIN:VEVENT
DTSTART;TZID=America/Los_Angeles:20200222T090000
DTEND;TZID=America/Los_Angeles:20200222T130000
DTSTAMP:20260423T020907
CREATED:20200110T174143Z
LAST-MODIFIED:20200121T235532Z
UID:1493-1582362000-1582376400@cirna.org
SUMMARY:LDA -- Sponsor/Sponsee Breakfast
DESCRIPTION:
URL:https://cirna.org/event/lda-sponsor-sponsee-breakfast/
LOCATION:Pavilion Center\, 401 S. Pavilion Way\, Palm Springs\, Ca\, 92262\, United States
CATEGORIES:Lower Desert Area
END:VEVENT
BEGIN:VEVENT
DTSTART;TZID=America/Los_Angeles:20200214T190000
DTEND;TZID=America/Los_Angeles:20200214T230000
DTSTAMP:20260423T020907
CREATED:20200121T233832Z
LAST-MODIFIED:20200203T032606Z
UID:1555-1581706800-1581721200@cirna.org
SUMMARY:MBA -- Valentine's Event
DESCRIPTION:
URL:https://cirna.org/event/mba-valentines-event-details-tbd/
LOCATION:First Christian Church of Yucca Valley\, 56284 Buena Vista Dr.\, Yucca valley\, Ca\, 92284\, United States
CATEGORIES:Morongo Basin Area
END:VEVENT
BEGIN:VEVENT
DTSTART;TZID=America/Los_Angeles:20191231T190000
DTEND;TZID=America/Los_Angeles:20200101T003000
DTSTAMP:20260423T020907
CREATED:20190808T020759Z
LAST-MODIFIED:20191010T184302Z
UID:1208-1577818800-1577838600@cirna.org
SUMMARY:MBA -- More Will Be Revealed New Years Eve Masquerade Party
DESCRIPTION:Speaker\, Midnight Meeting\, Photo Booth \n\n\n\nSuggested donation $10.00 per person; $15.00 per couple; kids 7 and under free \n\n\n\nMasquerade attire (suggested not required) \n\n\n\nPot Luck: Cajun themed (suggested not required) \n\n\n\nDJ/Dancing\, Raffles\, 50/50
URL:https://cirna.org/event/mba-more-will-be-revealed-new-years-eve-masquerade-party/
LOCATION:First Christian Church of Yucca Valley\, 56284 Buena Vista Dr.\, Yucca valley\, Ca\, 92284\, United States
CATEGORIES:Morongo Basin Area
ATTACH;FMTTYPE=image/jpeg:https://cirna.org/wp-content/uploads/2019/08/Scanned-Image-2.jpg
END:VEVENT
BEGIN:VEVENT
DTSTART;TZID=America/Los_Angeles:20191123T170000
DTEND;TZID=America/Los_Angeles:20191123T220000
DTSTAMP:20260423T020907
CREATED:20190926T234931Z
LAST-MODIFIED:20190926T234931Z
UID:1341-1574528400-1574546400@cirna.org
SUMMARY:SWA - Day of Gratitude
DESCRIPTION:@ Winchester Community Center \n\n\n\n32665 Haddock St.\, Winchester\, CA
URL:https://cirna.org/event/swa-day-of-gratitude/
LOCATION:Winchester Community Center\, 32665 Haddock St.\, Winchester\, California\, 92596\, United States
ATTACH;FMTTYPE=image/jpeg:https://cirna.org/wp-content/uploads/2019/09/70036415_2548419081882411_7072568666897776640_o.jpg
END:VEVENT
END:VCALENDAR